BEGIN:VCALENDAR
VERSION:2.0
PRODID:-//ChamberMaster//Event Calendar 2.0//EN
METHOD:PUBLISH
X-PUBLISHED-TTL:P3D
REFRESH-INTERVAL:P3D
CALSCALE:GREGORIAN
BEGIN:VEVENT
DTSTART:20021108T143000Z
DTEND:20021108T143000Z
X-MICROSOFT-CDO-ALLDAYEVENT:FALSE
SUMMARY:Wellness Council Fall Workshop
DESCRIPTION:This workshop will highlight a cooking demonstration taught by professional dietician Rita Short.  In addition there will be a presentation on Promoting Walkable Communities from Risa Wilkerson. The cost is $15 for WELCUP members and $30 for non-members.  To request a workshop registration form\, please call Kelly Rumpf at (906) 779-7234 or email Rumpf@hline.org
X-ALT-DESC;FMTTYPE=text/html:This workshop will highlight a cooking demonstration taught by professional dietician Rita Short.  In addition there will be a presentation on Promoting Walkable Communities from Risa Wilkerson. The cost is $15 for WELCUP members and $30 for non-members.  To request a workshop registration form\, please call Kelly Rumpf at (906) 779-7234 or email Rumpf@hline.org
LOCATION:Lakeview Arena
UID:e.1704.51277
SEQUENCE:3
DTSTAMP:20260422T022905Z
URL:http://marquette.memberzone.com/events/details/wellness-council-fall-workshop-11-08-2002-51277
END:VEVENT

END:VCALENDAR
