BEGIN:VCALENDAR
VERSION:2.0
PRODID:-//ChamberMaster//Event Calendar 2.0//EN
METHOD:PUBLISH
X-PUBLISHED-TTL:P3D
REFRESH-INTERVAL:P3D
CALSCALE:GREGORIAN
BEGIN:VEVENT
DTSTART:20020928T140000Z
DTEND:20020928T140000Z
X-MICROSOFT-CDO-ALLDAYEVENT:FALSE
SUMMARY:Wellness Run/Walk 2002
DESCRIPTION:This event is designed for individuals and families of all ages and athletic ability.\nAll proceeds will go to Marquette General Hospital's Specialty Clinic\, which serves young people with multiple handicaps\, cancer\, or other life changing conditions.  For more information call 227-2396 or visit www.longyear.acs.nmu.edu/~va.
X-ALT-DESC;FMTTYPE=text/html:This event is designed for individuals and families of all ages and athletic ability.\nAll proceeds will go to Marquette General Hospital's Specialty Clinic\, which serves young people with multiple handicaps\, cancer\, or other life changing conditions.  For more information call 227-2396 or visit www.longyear.acs.nmu.edu/~va.
LOCATION:Pine St. Parking Lot at Northern Michigan University
UID:e.1704.50737
SEQUENCE:3
DTSTAMP:20260422T094535Z
URL:http://marquette.memberzone.com/events/details/wellness-run-walk-2002-09-28-2002-50737
END:VEVENT

END:VCALENDAR
