BEGIN:VCALENDAR
VERSION:2.0
PRODID:-//ChamberMaster//Event Calendar 2.0//EN
METHOD:PUBLISH
X-PUBLISHED-TTL:P3D
REFRESH-INTERVAL:P3D
CALSCALE:GREGORIAN
BEGIN:VEVENT
DTSTART:20020724T150000Z
DTEND:20020724T150000Z
X-MICROSOFT-CDO-ALLDAYEVENT:FALSE
SUMMARY:Wells Fargo Customer Appreciation Open House
DESCRIPTION:Stop in at the Wells Fargo Ishpeming branch to meet the bankers\, register to win prizes and speak one-on-one with one of their personal or business bankers.  For more information\, please call the branch at 486-4407.
X-ALT-DESC;FMTTYPE=text/html:Stop in at the Wells Fargo Ishpeming branch to meet the bankers\, register to win prizes and speak one-on-one with one of their personal or business bankers.  For more information\, please call the branch at 486-4407.
LOCATION:Ishpeming Wells Fargo
UID:e.1704.49781
SEQUENCE:3
DTSTAMP:20260422T192803Z
URL:http://marquette.memberzone.com/events/details/wells-fargo-customer-appreciation-open-house-07-24-2002-49781
END:VEVENT

END:VCALENDAR
