BEGIN:VCALENDAR
VERSION:2.0
PRODID:-//ChamberMaster//Event Calendar 2.0//EN
METHOD:PUBLISH
X-PUBLISHED-TTL:P3D
REFRESH-INTERVAL:P3D
CALSCALE:GREGORIAN
BEGIN:VEVENT
DTSTART:20030403T000000Z
DTEND:20030403T000000Z
X-MICROSOFT-CDO-ALLDAYEVENT:FALSE
SUMMARY:West Side Story
DESCRIPTION:Marquette Senior High School presents "West Side Story".   Limited tickets at the door.    For more information call the EZ Ticket Office at 227-1032 or visit www.nmu.edu/tickets.
X-ALT-DESC;FMTTYPE=text/html:Marquette Senior High School presents "West Side Story".   Limited tickets at the door.    For more information call the EZ Ticket Office at 227-1032 or visit www.nmu.edu/tickets.
LOCATION:Kaufman Auditorium
UID:e.1704.53073
SEQUENCE:3
DTSTAMP:20260421T173637Z
URL:http://marquette.memberzone.com/events/details/west-side-story-04-02-2003-53073
END:VEVENT

END:VCALENDAR
