BEGIN:VCALENDAR
VERSION:2.0
PRODID:-//ChamberMaster//Event Calendar 2.0//EN
METHOD:PUBLISH
X-PUBLISHED-TTL:P3D
REFRESH-INTERVAL:P3D
CALSCALE:GREGORIAN
BEGIN:VEVENT
DTSTART:20020817T150000Z
DTEND:20020817T150000Z
X-MICROSOFT-CDO-ALLDAYEVENT:FALSE
SUMMARY:Wet N' Wild Canoe Race
DESCRIPTION:A variety of prizes will be offered in this fun event including\, best decorated canoe\, best costume\, oldest team\, team from farthest away\, most unique craft and much more!  The entry fee is $15 for solo racers and $25 for teams.  Please contact Tom or Sally Kenney at (906) 586-9801.
X-ALT-DESC;FMTTYPE=text/html:A variety of prizes will be offered in this fun event including\, best decorated canoe\, best costume\, oldest team\, team from farthest away\, most unique craft and much more!  The entry fee is $15 for solo racers and $25 for teams.  Please contact Tom or Sally Kenney at (906) 586-9801.
LOCATION:Germfask
UID:e.1704.49221
SEQUENCE:3
DTSTAMP:20260422T113516Z
URL:http://marquette.memberzone.com/events/details/wet-n-wild-canoe-race-08-17-2002-49221
END:VEVENT

END:VCALENDAR
