BEGIN:VCALENDAR
VERSION:2.0
PRODID:-//ChamberMaster//Event Calendar 2.0//EN
METHOD:PUBLISH
X-PUBLISHED-TTL:P3D
REFRESH-INTERVAL:P3D
CALSCALE:GREGORIAN
BEGIN:VEVENT
DTSTART:20040925T160000Z
DTEND:20040925T200000Z
X-MICROSOFT-CDO-ALLDAYEVENT:FALSE
SUMMARY:Wetland Education Fair
DESCRIPTION:Professionals with the U.S. Fish and Wildlife\, Department of Natural Resources\, Trout Unlimited and Central Lake Superior Watershed Partnership will be on hand to reveal the various programs offered within Marquette County.   For more information call the MooseWood Nature Center at 228-6250.
X-ALT-DESC;FMTTYPE=text/html:Professionals with the U.S. Fish and Wildlife\, Department of Natural Resources\, Trout Unlimited and Central Lake Superior Watershed Partnership will be on hand to reveal the various programs offered within Marquette County.   For more information call the MooseWood Nature Center at 228-6250.\n
LOCATION:MooseWood Nature Center
UID:e.1704.58841
SEQUENCE:3
DTSTAMP:20260420T055152Z
URL:http://marquette.memberzone.com/events/details/wetland-education-fair-09-25-2004-58841
END:VEVENT

END:VCALENDAR
