BEGIN:VCALENDAR
VERSION:2.0
PRODID:-//ChamberMaster//Event Calendar 2.0//EN
METHOD:PUBLISH
X-PUBLISHED-TTL:P3D
REFRESH-INTERVAL:P3D
CALSCALE:GREGORIAN
BEGIN:VEVENT
DTSTART:20030627T210000Z
DTEND:20030627T210000Z
X-MICROSOFT-CDO-ALLDAYEVENT:FALSE
SUMMARY:Wetmore Wildflower Hike
DESCRIPTION:MooseWood Nature Center shows you what's blooming around the Mead Wetmore Pond.  For more information call the MooseWood Nature Center at 228-6250 or visit www.moosewood.org.
X-ALT-DESC;FMTTYPE=text/html:MooseWood Nature Center shows you what's blooming around the Mead Wetmore Pond.  For more information call the MooseWood Nature Center at 228-6250 or visit www.moosewood.org.
LOCATION:Mead Wetmore Pond
UID:e.1704.53765
SEQUENCE:3
DTSTAMP:20260421T155231Z
URL:http://marquette.memberzone.com/events/details/wetmore-wildflower-hike-06-27-2003-53765
END:VEVENT

END:VCALENDAR
