BEGIN:VCALENDAR
VERSION:2.0
PRODID:-//ChamberMaster//Event Calendar 2.0//EN
METHOD:PUBLISH
X-PUBLISHED-TTL:P3D
REFRESH-INTERVAL:P3D
CALSCALE:GREGORIAN
BEGIN:VEVENT
DTSTART:20020801T233000Z
DTEND:20020801T233000Z
X-MICROSOFT-CDO-ALLDAYEVENT:FALSE
SUMMARY:White Water Performance
DESCRIPTION:The Marquette Arts and Culture Center's First Thursday of the Month Series will host White Water in the Community Room of the Peter White Public Library.  The performance is free and open to the public and refreshments will be served.  For more information\, please call the Arts and Culture Center at 228-0472
X-ALT-DESC;FMTTYPE=text/html:The Marquette Arts and Culture Center's First Thursday of the Month Series will host White Water in the Community Room of the Peter White Public Library.  The performance is free and open to the public and refreshments will be served.  For more information\, please call the Arts and Culture Center at 228-0472
LOCATION:Marquette Arts and Culture Center
UID:e.1704.49813
SEQUENCE:3
DTSTAMP:20260422T145426Z
URL:http://marquette.memberzone.com/events/details/white-water-performance-08-01-2002-49813
END:VEVENT

END:VCALENDAR
