BEGIN:VCALENDAR
VERSION:2.0
PRODID:-//ChamberMaster//Event Calendar 2.0//EN
METHOD:PUBLISH
X-PUBLISHED-TTL:P3D
REFRESH-INTERVAL:P3D
CALSCALE:GREGORIAN
BEGIN:VEVENT
DTSTART:20040926T210000Z
DTEND:20040926T210000Z
X-MICROSOFT-CDO-ALLDAYEVENT:FALSE
SUMMARY:Whitewater Benefit Concert
DESCRIPTION:Join us for this benefit concert starting at 5pm with supper at 6:30pm.  For more information call Presbytery Point at 225-1729.
X-ALT-DESC;FMTTYPE=text/html:Join us for this benefit concert starting at 5pm with supper at 6:30pm.  For more information call Presbytery Point at 225-1729.
LOCATION:Presbytery Point\, Michigamme
UID:e.1704.58837
SEQUENCE:3
DTSTAMP:20260420T055227Z
URL:http://marquette.memberzone.com/events/details/whitewater-benefit-concert-09-26-2004-58837
END:VEVENT

END:VCALENDAR
