BEGIN:VCALENDAR
VERSION:2.0
PRODID:-//ChamberMaster//Event Calendar 2.0//EN
METHOD:PUBLISH
X-PUBLISHED-TTL:P3D
REFRESH-INTERVAL:P3D
CALSCALE:GREGORIAN
BEGIN:VEVENT
DTSTART:20030818T143000Z
DTEND:20030818T143000Z
X-MICROSOFT-CDO-ALLDAYEVENT:FALSE
SUMMARY:WIC Clinic
DESCRIPTION:For more information on the clinic or to schedule an appointment\, call 475-7846.
X-ALT-DESC;FMTTYPE=text/html:For more information on the clinic or to schedule an appointment\, call 475-7846.
LOCATION:WIC in Negaunee
UID:e.1704.54849
SEQUENCE:3
DTSTAMP:20260421T092831Z
URL:http://marquette.memberzone.com/events/details/wic-clinic-08-18-2003-54849
END:VEVENT

END:VCALENDAR
