BEGIN:VCALENDAR
VERSION:2.0
PRODID:-//ChamberMaster//Event Calendar 2.0//EN
METHOD:PUBLISH
X-PUBLISHED-TTL:P3D
REFRESH-INTERVAL:P3D
CALSCALE:GREGORIAN
BEGIN:VEVENT
DTSTART:20020914T210000Z
DTEND:20020914T210000Z
X-MICROSOFT-CDO-ALLDAYEVENT:FALSE
SUMMARY:Wildcat Pride Kickoff Tailgate Party
DESCRIPTION:Meet NMU coaches and athletes.  Dunk tank\, free inflatable games and special activities will only be part of the fun.  Celebrity cooks and servers\, Wildcat Willy\, MC-Mark Evans and Music by Blue Rubies (Jump Blues) will round out the festivities.  Tailgate on your own (grills will be abailable) or chose hot dogs and brats for only $1 a peice and pop only 50 cents.  For more infromation call 226-6591.
X-ALT-DESC;FMTTYPE=text/html:Meet NMU coaches and athletes.  Dunk tank\, free inflatable games and special activities will only be part of the fun.  Celebrity cooks and servers\, Wildcat Willy\, MC-Mark Evans and Music by Blue Rubies (Jump Blues) will round out the festivities.  Tailgate on your own (grills will be abailable) or chose hot dogs and brats for only $1 a peice and pop only 50 cents.  For more infromation call 226-6591.
LOCATION:Northeast side of the Superior Dome
UID:e.1704.50537
SEQUENCE:3
DTSTAMP:20260422T094933Z
URL:http://marquette.memberzone.com/events/details/wildcat-pride-kickoff-tailgate-party-09-14-2002-50537
END:VEVENT

END:VCALENDAR
