BEGIN:VCALENDAR
VERSION:2.0
PRODID:-//ChamberMaster//Event Calendar 2.0//EN
METHOD:PUBLISH
X-PUBLISHED-TTL:P3D
REFRESH-INTERVAL:P3D
CALSCALE:GREGORIAN
BEGIN:VEVENT
DTSTART:20010605T123000Z
DTEND:20010605T123000Z
X-MICROSOFT-CDO-ALLDAYEVENT:FALSE
SUMMARY:Wildflower Day Trip
DESCRIPTION:Kathy Davis will lead this outing.  Participants are asked to meet in the Superior Dome Parking lot to board a bus going to Newberry. The days events will include a coffee break at the old hotel in Newberry\, a stop for lunch at the campground at the mouth of the Two-Hearted River\, dinner at the "Old Forest Inn" in Chamberlain. Will also include a walk along the beach and a look at the lighthouse at Crisp Point. Participants are asked to register by June 1 by calling 227-2979. The cost is $3 for members and $5 for non-members.
X-ALT-DESC;FMTTYPE=text/html:Kathy Davis will lead this outing.  Participants are asked to meet in the Superior Dome Parking lot to board a bus going to Newberry. The days events will include a coffee break at the old hotel in Newberry\, a stop for lunch at the campground at the mouth of the Two-Hearted River\, dinner at the "Old Forest Inn" in Chamberlain. Will also include a walk along the beach and a look at the lighthouse at Crisp Point. Participants are asked to register by June 1 by calling 227-2979. The cost is $3 for members and $5 for non-members.
LOCATION:Superior Dome Parking Lot
UID:e.1704.44529
SEQUENCE:3
DTSTAMP:20260423T163914Z
URL:http://marquette.memberzone.com/events/details/wildflower-day-trip-06-05-2001-44529
END:VEVENT

END:VCALENDAR
