BEGIN:VCALENDAR
VERSION:2.0
PRODID:-//ChamberMaster//Event Calendar 2.0//EN
METHOD:PUBLISH
X-PUBLISHED-TTL:P3D
REFRESH-INTERVAL:P3D
CALSCALE:GREGORIAN
BEGIN:VEVENT
DTSTART:20040513T130000Z
DTEND:20040513T130000Z
X-MICROSOFT-CDO-ALLDAYEVENT:FALSE
SUMMARY:Wildflower Garden Project
DESCRIPTION:Learn about native garden plans and help build a wildflower garden.  For more information call the MooseWood Nature Center at 228-6250 or visit www.moosewood.org.
X-ALT-DESC;FMTTYPE=text/html:Learn about native garden plans and help build a wildflower garden.  For more information call the MooseWood Nature Center at 228-6250 or visit www.moosewood.org.
LOCATION:Marquette Community Garden
UID:e.1704.58029
SEQUENCE:3
DTSTAMP:20260420T161016Z
URL:http://marquette.memberzone.com/events/details/wildflower-garden-project-05-13-2004-58029
END:VEVENT

END:VCALENDAR
