BEGIN:VCALENDAR
VERSION:2.0
PRODID:-//ChamberMaster//Event Calendar 2.0//EN
METHOD:PUBLISH
X-PUBLISHED-TTL:P3D
REFRESH-INTERVAL:P3D
CALSCALE:GREGORIAN
BEGIN:VEVENT
DTSTART:20020815T040000Z
DTEND:20020828T040000Z
X-MICROSOFT-CDO-ALLDAYEVENT:FALSE
SUMMARY:Wildflower Plug Orders
DESCRIPTION:The Marquette County Conservation District is again offering local native wildflower/grass plugs for sale.  Species include bunchberry\, columbine\, black-eyed susan\, bee balm\, Canada wild rye and brome glass.  Orders will be accepted up until August 28\, or while supplies last.  For more information or to receive an order form\, stop by the Conservation District at 1030 Wright Street in Marquette or call 226-2461.
X-ALT-DESC;FMTTYPE=text/html:The Marquette County Conservation District is again offering local native wildflower/grass plugs for sale.  Species include bunchberry\, columbine\, black-eyed susan\, bee balm\, Canada wild rye and brome glass.  Orders will be accepted up until August 28\, or while supplies last.  For more information or to receive an order form\, stop by the Conservation District at 1030 Wright Street in Marquette or call 226-2461.
LOCATION:Marquette County Conservation District
UID:e.1704.50181
SEQUENCE:3
DTSTAMP:20260422T113309Z
URL:http://marquette.memberzone.com/events/details/wildflower-plug-orders-08-15-2002-50181
END:VEVENT

END:VCALENDAR
