BEGIN:VCALENDAR
VERSION:2.0
PRODID:-//ChamberMaster//Event Calendar 2.0//EN
METHOD:PUBLISH
X-PUBLISHED-TTL:P3D
REFRESH-INTERVAL:P3D
CALSCALE:GREGORIAN
BEGIN:VEVENT
DTSTART:20040701T213000Z
DTEND:20040701T213000Z
X-MICROSOFT-CDO-ALLDAYEVENT:FALSE
SUMMARY:Wildflowers of Wetmore Pond
DESCRIPTION:Meet at MooseWood Nature Center and carpool to Wetmore Pond.  This is a free event\, donations appreciated and the public is welcome.   For more information call MooseWood Nature Center at 227-9622 or visit www.moosewood.org.
X-ALT-DESC;FMTTYPE=text/html:Meet at MooseWood Nature Center and carpool to Wetmore Pond.  This is a free event\, donations appreciated and the public is welcome.   For more information call MooseWood Nature Center at 227-9622 or visit www.moosewood.org.
LOCATION:MooseWood Nature Center
UID:e.1704.58509
SEQUENCE:3
DTSTAMP:20260420T142137Z
URL:http://marquette.memberzone.com/events/details/wildflowers-of-wetmore-pond-07-01-2004-58509
END:VEVENT

END:VCALENDAR
