BEGIN:VCALENDAR
VERSION:2.0
PRODID:-//ChamberMaster//Event Calendar 2.0//EN
METHOD:PUBLISH
X-PUBLISHED-TTL:P3D
REFRESH-INTERVAL:P3D
CALSCALE:GREGORIAN
BEGIN:VEVENT
DTSTART:20011011T040000Z
DTEND:20011011T040000Z
X-MICROSOFT-CDO-ALLDAYEVENT:FALSE
SUMMARY:Windows of Hope Family Relief Fund
DESCRIPTION:Participating restaurants worldwide will donat a portion of the day's sales to the Windows of Hope Family Relief Fund. It will provide aid to the families of the victims of the World Trade Center tragedy who worked in the foodservce profession throughout the entire complex.
X-ALT-DESC;FMTTYPE=text/html:Participating restaurants worldwide will donat a portion of the day's sales to the Windows of Hope Family Relief Fund. It will provide aid to the families of the victims of the World Trade Center tragedy who worked in the foodservce profession throughout the entire complex.
LOCATION:Participating Restaurants
UID:e.1704.46057
SEQUENCE:3
DTSTAMP:20260423T093616Z
URL:http://marquette.memberzone.com/events/details/windows-of-hope-family-relief-fund-10-11-2001-46057
END:VEVENT

END:VCALENDAR
