BEGIN:VCALENDAR
VERSION:2.0
PRODID:-//ChamberMaster//Event Calendar 2.0//EN
METHOD:PUBLISH
X-PUBLISHED-TTL:P3D
REFRESH-INTERVAL:P3D
CALSCALE:GREGORIAN
BEGIN:VEVENT
DTSTART:20020209T173000Z
DTEND:20020209T173000Z
X-MICROSOFT-CDO-ALLDAYEVENT:FALSE
SUMMARY:Winter Adaptation Workshop
DESCRIPTION:MooseWood Nature Center introduces you to the science of snow and how mammals\, birds\, reptiles\, amphibians and insects adjust to the "freezin' season".  Dress warm!  The cost to attend is $3 for non-members and members are free. Call 228-6250 to register by the 6th.
X-ALT-DESC;FMTTYPE=text/html:MooseWood Nature Center introduces you to the science of snow and how mammals\, birds\, reptiles\, amphibians and insects adjust to the "freezin' season".  Dress warm!  The cost to attend is $3 for non-members and members are free. Call 228-6250 to register by the 6th.
LOCATION:Presque Isle Park
UID:e.1704.47485
SEQUENCE:3
DTSTAMP:20260423T030946Z
URL:http://marquette.memberzone.com/events/details/winter-adaptation-workshop-02-09-2002-47485
END:VEVENT

END:VCALENDAR
