BEGIN:VCALENDAR
VERSION:2.0
PRODID:-//ChamberMaster//Event Calendar 2.0//EN
METHOD:PUBLISH
X-PUBLISHED-TTL:P3D
REFRESH-INTERVAL:P3D
CALSCALE:GREGORIAN
BEGIN:VEVENT
DTSTART:20040107T213000Z
DTEND:20040107T213000Z
X-MICROSOFT-CDO-ALLDAYEVENT:FALSE
SUMMARY:Winter Bog Ecology Hike
DESCRIPTION:Come see what's happening out in the bog in the winter.  This is a free event\, but donations are welcome.  For more information call the MooseWood Nature Center at 228-6250 or visit www.moosewood.org.
X-ALT-DESC;FMTTYPE=text/html:Come see what's happening out in the bog in the winter.  This is a free event\, but donations are welcome.  For more information call the MooseWood Nature Center at 228-6250 or visit www.moosewood.org.
LOCATION:MooseWood Nature Center
UID:e.1704.56573
SEQUENCE:3
DTSTAMP:20260421T004330Z
URL:http://marquette.memberzone.com/events/details/winter-bog-ecology-hike-01-07-2004-56573
END:VEVENT

END:VCALENDAR
