BEGIN:VCALENDAR
VERSION:2.0
PRODID:-//ChamberMaster//Event Calendar 2.0//EN
METHOD:PUBLISH
X-PUBLISHED-TTL:P3D
REFRESH-INTERVAL:P3D
CALSCALE:GREGORIAN
BEGIN:VEVENT
DTSTART:20020209T000000Z
DTEND:20020209T000000Z
X-MICROSOFT-CDO-ALLDAYEVENT:FALSE
SUMMARY:Winter Charm Art Exhibit Public Reception
DESCRIPTION:The Lake Superior Art Association and the Marquette Arts & Culture Center present the second annual "Winter Charm" Art Exhibit in the Huron Mountain Club Gallery\, located on the main level of Peter White.  This year's theme will center around the concepts of heat and color\, rather than depict what we see outside our doors in the winter\, artists will concentrate on hot\, tropical colors while suggesting winter activities.  For more information please call 228-0472 or visit www.mqtcty.org
X-ALT-DESC;FMTTYPE=text/html:The Lake Superior Art Association and the Marquette Arts & Culture Center present the second annual "Winter Charm" Art Exhibit in the Huron Mountain Club Gallery\, located on the main level of Peter White.  This year's theme will center around the concepts of heat and color\, rather than depict what we see outside our doors in the winter\, artists will concentrate on hot\, tropical colors while suggesting winter activities.  For more information please call 228-0472 or visit www.mqtcty.org
LOCATION:Babycakes
UID:e.1704.47401
SEQUENCE:3
DTSTAMP:20260423T013653Z
URL:http://marquette.memberzone.com/events/details/winter-charm-art-exhibit-public-reception-02-08-2002-47401
END:VEVENT

END:VCALENDAR
