BEGIN:VCALENDAR
VERSION:2.0
PRODID:-//ChamberMaster//Event Calendar 2.0//EN
METHOD:PUBLISH
X-PUBLISHED-TTL:P3D
REFRESH-INTERVAL:P3D
CALSCALE:GREGORIAN
BEGIN:VEVENT
DTSTART:20020216T050000Z
DTEND:20020216T050000Z
X-MICROSOFT-CDO-ALLDAYEVENT:FALSE
SUMMARY:Winter Fest 2002 Broomball Tournament
DESCRIPTION:The city of Marquette is sponsoring its 3rd annual broomball tournament.  The competition begins on the 16th and ends with the finals on the 17th.  Prizes will be awarded to the winners.  Registration deadline is the 9th. For more information please call Reetha Tweedie at 228-0472.
X-ALT-DESC;FMTTYPE=text/html:The city of Marquette is sponsoring its 3rd annual broomball tournament.  The competition begins on the 16th and ends with the finals on the 17th.  Prizes will be awarded to the winners.  Registration deadline is the 9th. For more information please call Reetha Tweedie at 228-0472.
LOCATION:Lower Harbor Park
UID:e.1704.47333
SEQUENCE:3
DTSTAMP:20260423T013757Z
URL:http://marquette.memberzone.com/events/details/winter-fest-2002-broomball-tournament-02-16-2002-47333
END:VEVENT

END:VCALENDAR
