BEGIN:VCALENDAR
VERSION:2.0
PRODID:-//ChamberMaster//Event Calendar 2.0//EN
METHOD:PUBLISH
X-PUBLISHED-TTL:P3D
REFRESH-INTERVAL:P3D
CALSCALE:GREGORIAN
BEGIN:VEVENT
DTSTART:20030215T000000Z
DTEND:20030215T000000Z
X-MICROSOFT-CDO-ALLDAYEVENT:FALSE
SUMMARY:Winter Fest Party
DESCRIPTION:Music will be provided by Jim and Ray.  For more information call the Marquette Arts and Culture Center at 228-0472.
X-ALT-DESC;FMTTYPE=text/html:Music will be provided by Jim and Ray.  For more information call the Marquette Arts and Culture Center at 228-0472.
LOCATION:Upfront & Co. Ballroom
UID:e.1704.51873
SEQUENCE:3
DTSTAMP:20260421T210018Z
URL:http://marquette.memberzone.com/events/details/winter-fest-party-02-14-2003-51873
END:VEVENT

END:VCALENDAR
