BEGIN:VCALENDAR
VERSION:2.0
PRODID:-//ChamberMaster//Event Calendar 2.0//EN
METHOD:PUBLISH
X-PUBLISHED-TTL:P3D
REFRESH-INTERVAL:P3D
CALSCALE:GREGORIAN
BEGIN:VEVENT
DTSTART:20031207T180000Z
DTEND:20031207T180000Z
X-MICROSOFT-CDO-ALLDAYEVENT:FALSE
SUMMARY:Winter Wonderland Walk and Holiday Open House
DESCRIPTION:Come view dozens of trees decorated by families\, community groups\, businesses and the library staff.  Decoration day will be December 4th.   There will be live music and refreshments will be served.  For more information call Bryn Smith at 266-4318.
X-ALT-DESC;FMTTYPE=text/html:Come view dozens of trees decorated by families\, community groups\, businesses and the library staff.  Decoration day will be December 4th.   There will be live music and refreshments will be served.  For more information call Bryn Smith at 266-4318.
LOCATION:Peter White Public Library
UID:e.1704.55197
SEQUENCE:3
DTSTAMP:20260421T023121Z
URL:http://marquette.memberzone.com/events/details/winter-wonderland-walk-and-holiday-open-house-12-07-2003-55197
END:VEVENT

END:VCALENDAR
