BEGIN:VCALENDAR
VERSION:2.0
PRODID:-//ChamberMaster//Event Calendar 2.0//EN
METHOD:PUBLISH
X-PUBLISHED-TTL:P3D
REFRESH-INTERVAL:P3D
CALSCALE:GREGORIAN
BEGIN:VEVENT
DTSTART:20030215T190000Z
DTEND:20030215T190000Z
X-MICROSOFT-CDO-ALLDAYEVENT:FALSE
SUMMARY:Winterfest Snow Science & Winter Adaptation Activities
DESCRIPTION:Learn about the science of snow and how animals adapt to winter weather.  This event is free\, but donations are appreciated.   For more information call the MooseWood Nature Center at 228-6250 or visit www.moosewood.org.
X-ALT-DESC;FMTTYPE=text/html:Learn about the science of snow and how animals adapt to winter weather.  This event is free\, but donations are appreciated.   For more information call the MooseWood Nature Center at 228-6250 or visit www.moosewood.org.
LOCATION:MooseWood Nature Center
UID:e.1704.52257
SEQUENCE:3
DTSTAMP:20260421T210001Z
URL:http://marquette.memberzone.com/events/details/winterfest-snow-science-winter-adaptation-activities-02-15-2003-52257
END:VEVENT

END:VCALENDAR
