BEGIN:VCALENDAR
VERSION:2.0
PRODID:-//ChamberMaster//Event Calendar 2.0//EN
METHOD:PUBLISH
X-PUBLISHED-TTL:P3D
REFRESH-INTERVAL:P3D
CALSCALE:GREGORIAN
BEGIN:VEVENT
DTSTART:20040723T230000Z
DTEND:20040723T230000Z
X-MICROSOFT-CDO-ALLDAYEVENT:FALSE
SUMMARY:Wizard of Oz
DESCRIPTION:Come see the classic favorite at its premier outdoor showing as part of  Marquette's Blueberry Festival.  Festivities start at 7pm with music\, UP Dogs\, popcorn\, ice cream\, drinks and prizes for test Wiozard of Oz costumes.  Movie will start about 9:30 pm.   For more information call the Children's Museum at 226-3911.
X-ALT-DESC;FMTTYPE=text/html:Come see the classic favorite at its premier outdoor showing as part of  Marquette's Blueberry Festival.  Festivities start at 7pm with music\, UP Dogs\, popcorn\, ice cream\, drinks and prizes for test Wiozard of Oz costumes.  Movie will start about 9:30 pm.   For more information call the Children's Museum at 226-3911.
LOCATION:Children's Museum
UID:e.1704.58569
SEQUENCE:3
DTSTAMP:20260420T092009Z
URL:http://marquette.memberzone.com/events/details/wizard-of-oz-07-23-2004-58569
END:VEVENT

END:VCALENDAR
