BEGIN:VCALENDAR
VERSION:2.0
PRODID:-//ChamberMaster//Event Calendar 2.0//EN
METHOD:PUBLISH
X-PUBLISHED-TTL:P3D
REFRESH-INTERVAL:P3D
CALSCALE:GREGORIAN
BEGIN:VEVENT
DTSTART:20031115T000000Z
DTEND:20031115T000000Z
X-MICROSOFT-CDO-ALLDAYEVENT:FALSE
SUMMARY:Wolves of the Upper Peninsula
DESCRIPTION:The Seirra Club will present Dean Beyer\, Michigan Department of Natural Resources wildlife research biologist\, to speak on the status of wolves in the Upper Peninsula.  For more information call John Rebers at 228-3617.
X-ALT-DESC;FMTTYPE=text/html:The Seirra Club will present Dean Beyer\, Michigan Department of Natural Resources wildlife research biologist\, to speak on the status of wolves in the Upper Peninsula.  For more information call John Rebers at 228-3617.
LOCATION:Community Room\, Peter White Public Library
UID:e.1704.56245
SEQUENCE:3
DTSTAMP:20260421T023029Z
URL:http://marquette.memberzone.com/events/details/wolves-of-the-upper-peninsula-11-14-2003-56245
END:VEVENT

END:VCALENDAR
