BEGIN:VCALENDAR
VERSION:2.0
PRODID:-//ChamberMaster//Event Calendar 2.0//EN
METHOD:PUBLISH
X-PUBLISHED-TTL:P3D
REFRESH-INTERVAL:P3D
CALSCALE:GREGORIAN
BEGIN:VEVENT
DTSTART:20031001T223000Z
DTEND:20031001T223000Z
X-MICROSOFT-CDO-ALLDAYEVENT:FALSE
SUMMARY:Women in Investing
DESCRIPTION:Instructed by Lisa Mongiat\, this series will take place every Wednesday in October and the first two Wednesdays in November.  Seating is limited and registration is required.  For more information call Lisa Mongiat at 226-4074.
X-ALT-DESC;FMTTYPE=text/html:Instructed by Lisa Mongiat\, this series will take place every Wednesday in October and the first two Wednesdays in November.  Seating is limited and registration is required.  For more information call Lisa Mongiat at 226-4074.
LOCATION:Edward Jones Office/2112 US 41 West\, Marquette
UID:e.1704.55393
SEQUENCE:3
DTSTAMP:20260421T035452Z
URL:http://marquette.memberzone.com/events/details/women-in-investing-10-01-2003-55393
END:VEVENT

END:VCALENDAR
