BEGIN:VCALENDAR
VERSION:2.0
PRODID:-//ChamberMaster//Event Calendar 2.0//EN
METHOD:PUBLISH
X-PUBLISHED-TTL:P3D
REFRESH-INTERVAL:P3D
CALSCALE:GREGORIAN
BEGIN:VEVENT
DTSTART:20031213T153000Z
DTEND:20031213T153000Z
X-MICROSOFT-CDO-ALLDAYEVENT:FALSE
SUMMARY:Women's Christmas Brunch
DESCRIPTION:For more infomation call the Marquette Gospel Tabernacle at 226-9727.
X-ALT-DESC;FMTTYPE=text/html:For more infomation call the Marquette Gospel Tabernacle at 226-9727.
LOCATION:Marquette Gospel Tabernacle
UID:e.1704.56097
SEQUENCE:3
DTSTAMP:20260421T005527Z
URL:http://marquette.memberzone.com/events/details/women-s-christmas-brunch-12-13-2003-56097
END:VEVENT

END:VCALENDAR
