BEGIN:VCALENDAR
VERSION:2.0
PRODID:-//ChamberMaster//Event Calendar 2.0//EN
METHOD:PUBLISH
X-PUBLISHED-TTL:P3D
REFRESH-INTERVAL:P3D
CALSCALE:GREGORIAN
BEGIN:VEVENT
DTSTART:20020921T123000Z
DTEND:20020921T123000Z
X-MICROSOFT-CDO-ALLDAYEVENT:FALSE
SUMMARY:Women's Health Awareness
DESCRIPTION:This year's theme is "Women in Touch".  Events for the day will showcase a local breast cancer survivor with eight workshops throughout the day.  A fashion show with hair wraps and more is also scheduled.  Lunch is provided for the first 100 who register.  There is no cost to attend\, but registration is required by Sept. 12.\nFor more information call  the Marquette County Health Department at 475-7844.
X-ALT-DESC;FMTTYPE=text/html:This year's theme is "Women in Touch".  Events for the day will showcase a local breast cancer survivor with eight workshops throughout the day.  A fashion show with hair wraps and more is also scheduled.  Lunch is provided for the first 100 who register.  There is no cost to attend\, but registration is required by Sept. 12.\nFor more information call  the Marquette County Health Department at 475-7844.\n
LOCATION:NMU's Don H. Bottum University Center
UID:e.1704.50341
SEQUENCE:3
DTSTAMP:20260422T095415Z
URL:http://marquette.memberzone.com/events/details/women-s-health-awareness-09-21-2002-50341
END:VEVENT

END:VCALENDAR
