BEGIN:VCALENDAR
VERSION:2.0
PRODID:-//ChamberMaster//Event Calendar 2.0//EN
METHOD:PUBLISH
X-PUBLISHED-TTL:P3D
REFRESH-INTERVAL:P3D
CALSCALE:GREGORIAN
BEGIN:VEVENT
DTSTART:20041009T040000Z
DTEND:20041009T040000Z
X-MICROSOFT-CDO-ALLDAYEVENT:FALSE
SUMMARY:Women's Health Conference
DESCRIPTION:Join us for a day filled with valuable information on current issues and trends in prevention and treatment.  Whether you're a nurse\, health care provider\, or a woman simply interested in personal health information --this conference has something for you.  Preregistration is required.  To register or for more information call the MGHS Education Department at 906-225-3470 or 800-562-9753 ext 3470.
X-ALT-DESC;FMTTYPE=text/html:Join us for a day filled with valuable information on current issues and trends in prevention and treatment.  Whether you're a nurse\, health care provider\, or a woman simply interested in personal health information --this conference has something for you.  Preregistration is required.  To register or for more information call the MGHS Education Department at 906-225-3470 or 800-562-9753 ext 3470.
LOCATION:Marquette General Health Systems
UID:e.1704.58889
SEQUENCE:3
DTSTAMP:20260420T040748Z
URL:http://marquette.memberzone.com/events/details/women-s-health-conference-10-09-2004-58889
END:VEVENT

END:VCALENDAR
