BEGIN:VCALENDAR
VERSION:2.0
PRODID:-//ChamberMaster//Event Calendar 2.0//EN
METHOD:PUBLISH
X-PUBLISHED-TTL:P3D
REFRESH-INTERVAL:P3D
CALSCALE:GREGORIAN
BEGIN:VEVENT
DTSTART:20030808T040000Z
DTEND:20030808T040000Z
X-MICROSOFT-CDO-ALLDAYEVENT:FALSE
SUMMARY:Women's Health Screening
DESCRIPTION:Tests included are: breast exam\, pelvic exam\, Pap test\, and mammogram at no cost to eligible women. Mammograms will be done at a later date at the Marquette Radiology Associates\, Bell Memorial Hospital or Marquette General Hospital. The tests are performed by an all-female staff. The screening is open to women age 40-64 who meet the income guidelines. Appointments are necessary and can be made by calling 475-7844 Ext. 264.
X-ALT-DESC;FMTTYPE=text/html:Tests included are: breast exam\, pelvic exam\, Pap test\, and mammogram at no cost to eligible women. Mammograms will be done at a later date at the Marquette Radiology Associates\, Bell Memorial Hospital or Marquette General Hospital. The tests are performed by an all-female staff. The screening is open to women age 40-64 who meet the income guidelines. Appointments are necessary and can be made by calling 475-7844 Ext. 264.
LOCATION:Marquette County Health Department
UID:e.1704.54949
SEQUENCE:3
DTSTAMP:20260421T093110Z
URL:http://marquette.memberzone.com/events/details/women-s-health-screening-08-08-2003-54949
END:VEVENT

END:VCALENDAR
