BEGIN:VCALENDAR
VERSION:2.0
PRODID:-//ChamberMaster//Event Calendar 2.0//EN
METHOD:PUBLISH
X-PUBLISHED-TTL:P3D
REFRESH-INTERVAL:P3D
CALSCALE:GREGORIAN
BEGIN:VEVENT
DTSTART:20041209T050000Z
DTEND:20041209T050000Z
X-MICROSOFT-CDO-ALLDAYEVENT:FALSE
SUMMARY:Women's Health Screenings
DESCRIPTION:The screening includes a breast exam\, pelvic exam\, Pap test and mammogram at no cost to eligible women.  Mammograms will be done later at the Marquette Radiology Associates\, Bell Memorial Hospital or Marquette General Hospital.  The tests are performed by an all-female staff.  The screening is open to women ages 40-64 who meet income guidelines.  To make an appointment or for more information call the Marquette County Health Department at 475-7844 ext. 248.
X-ALT-DESC;FMTTYPE=text/html:The screening includes a breast exam\, pelvic exam\, Pap test and mammogram at no cost to eligible women.  Mammograms will be done later at the Marquette Radiology Associates\, Bell Memorial Hospital or Marquette General Hospital.  The tests are performed by an all-female staff.  The screening is open to women ages 40-64 who meet income guidelines.  To make an appointment or for more information call the Marquette County Health Department at 475-7844 ext. 248.
LOCATION:Marquette County Health Department
UID:e.1704.59349
SEQUENCE:3
DTSTAMP:20260420T021247Z
URL:http://marquette.memberzone.com/events/details/women-s-health-screenings-12-09-2004-59349
END:VEVENT

END:VCALENDAR
