BEGIN:VCALENDAR
VERSION:2.0
PRODID:-//ChamberMaster//Event Calendar 2.0//EN
METHOD:PUBLISH
X-PUBLISHED-TTL:P3D
REFRESH-INTERVAL:P3D
CALSCALE:GREGORIAN
BEGIN:VEVENT
DTSTART:20040131T170000Z
DTEND:20040131T170000Z
X-MICROSOFT-CDO-ALLDAYEVENT:FALSE
SUMMARY:Women's Ski Tour Expo
DESCRIPTION:Expo on women's health and services.  For more information call Sandy Spoelstra at 225-1174/360-2934 or visit www.womensskitour.com.
X-ALT-DESC;FMTTYPE=text/html:Expo on women's health and services.  For more information call Sandy Spoelstra at 225-1174/360-2934 or visit www.womensskitour.com.
LOCATION:Landmark Inn
UID:e.1704.56221
SEQUENCE:3
DTSTAMP:20260420T231127Z
URL:http://marquette.memberzone.com/events/details/women-s-ski-tour-expo-01-31-2004-56221
END:VEVENT

END:VCALENDAR
