BEGIN:VCALENDAR
VERSION:2.0
PRODID:-//ChamberMaster//Event Calendar 2.0//EN
METHOD:PUBLISH
X-PUBLISHED-TTL:P3D
REFRESH-INTERVAL:P3D
CALSCALE:GREGORIAN
BEGIN:VEVENT
DTSTART:20040116T000000Z
DTEND:20040116T000000Z
X-MICROSOFT-CDO-ALLDAYEVENT:FALSE
SUMMARY:Women's Ski Tour Fashion Show
DESCRIPTION:Warm-up for winter this year with the opportunity to learn about training\, equipment and the latest clothing for keeping warm at the Winter Warm-Up Fashion show.  For more information call Sandy Spoelstra at 225-1174/360-2934 or visit www.womensskitour.com.
X-ALT-DESC;FMTTYPE=text/html:Warm-up for winter this year with the opportunity to learn about training\, equipment and the latest clothing for keeping warm at the Winter Warm-Up Fashion show.  For more information call Sandy Spoelstra at 225-1174/360-2934 or visit www.womensskitour.com.
LOCATION:Landmark Inn
UID:e.1704.56217
SEQUENCE:3
DTSTAMP:20260421T005711Z
URL:http://marquette.memberzone.com/events/details/women-s-ski-tour-fashion-show-01-15-2004-56217
END:VEVENT

END:VCALENDAR
