BEGIN:VCALENDAR
VERSION:2.0
PRODID:-//ChamberMaster//Event Calendar 2.0//EN
METHOD:PUBLISH
X-PUBLISHED-TTL:P3D
REFRESH-INTERVAL:P3D
CALSCALE:GREGORIAN
BEGIN:VEVENT
DTSTART:20030625T210000Z
DTEND:20030625T210000Z
X-MICROSOFT-CDO-ALLDAYEVENT:FALSE
SUMMARY:Wonderful World of Pollinators!
DESCRIPTION:Have fun learning about plants and their pollinators.  This is a free event.  For more information call the MooseWood Nature Center at 228-6250 or visit www.moosewood.org.
X-ALT-DESC;FMTTYPE=text/html:Have fun learning about plants and their pollinators.  This is a free event.  For more information call the MooseWood Nature Center at 228-6250 or visit www.moosewood.org.
LOCATION:Al Quaal Recreation Area\, Ishpeming
UID:e.1704.53761
SEQUENCE:3
DTSTAMP:20260421T143516Z
URL:http://marquette.memberzone.com/events/details/wonderful-world-of-pollinators-06-25-2003-53761
END:VEVENT

END:VCALENDAR
