BEGIN:VCALENDAR
VERSION:2.0
PRODID:-//ChamberMaster//Event Calendar 2.0//EN
METHOD:PUBLISH
X-PUBLISHED-TTL:P3D
REFRESH-INTERVAL:P3D
CALSCALE:GREGORIAN
BEGIN:VEVENT
DTSTART:20040425T000000Z
DTEND:20040425T000000Z
X-MICROSOFT-CDO-ALLDAYEVENT:FALSE
SUMMARY:Woodcock Flights
DESCRIPTION:Take a hike and watch the flight of the American woodcock.  Meet at MooseWood Nature Center and carpool to hike location.  For more information call the MooseWood Nature Center at 228-6250 or visit www.moosewood.org.
X-ALT-DESC;FMTTYPE=text/html:Take a hike and watch the flight of the American woodcock.  Meet at MooseWood Nature Center and carpool to hike location.  For more information call the MooseWood Nature Center at 228-6250 or visit www.moosewood.org.
LOCATION:MooseWood Nature Center
UID:e.1704.57501
SEQUENCE:3
DTSTAMP:20260420T180858Z
URL:http://marquette.memberzone.com/events/details/woodcock-flights-04-24-2004-57501
END:VEVENT

END:VCALENDAR
