BEGIN:VCALENDAR
VERSION:2.0
PRODID:-//ChamberMaster//Event Calendar 2.0//EN
METHOD:PUBLISH
X-PUBLISHED-TTL:P3D
REFRESH-INTERVAL:P3D
CALSCALE:GREGORIAN
BEGIN:VEVENT
DTSTART:20010925T130000Z
DTEND:20011101T160000Z
X-MICROSOFT-CDO-ALLDAYEVENT:FALSE
SUMMARY:Woodworkers Rally
DESCRIPTION:Norther Center for Lifelong Learning will conduct a six-week woodworker's rally. Class will meet twice a week on Tuesday and Thursday. The course will include dicussion of tool skills\, safety\, finishing and many other helpful tips. Beginning and advanced woodworkers are welcome. The cost to attend is $30 for NCLL members and $60 for non-members. For more informtiion or to register please call 227-2979 ext. 30.
X-ALT-DESC;FMTTYPE=text/html:Norther Center for Lifelong Learning will conduct a six-week woodworker's rally. Class will meet twice a week on Tuesday and Thursday. The course will include dicussion of tool skills\, safety\, finishing and many other helpful tips. Beginning and advanced woodworkers are welcome. The cost to attend is $30 for NCLL members and $60 for non-members. For more informtiion or to register please call 227-2979 ext. 30.
LOCATION:NMU
UID:e.1704.45909
SEQUENCE:3
DTSTAMP:20260423T093350Z
URL:http://marquette.memberzone.com/events/details/woodworkers-rally-09-25-2001-45909
END:VEVENT

END:VCALENDAR
