BEGIN:VCALENDAR
VERSION:2.0
PRODID:-//ChamberMaster//Event Calendar 2.0//EN
METHOD:PUBLISH
X-PUBLISHED-TTL:P3D
REFRESH-INTERVAL:P3D
CALSCALE:GREGORIAN
BEGIN:VEVENT
DTSTART:20031025T170000Z
DTEND:20031025T170000Z
X-MICROSOFT-CDO-ALLDAYEVENT:FALSE
SUMMARY:World Cup Speed Skating
DESCRIPTION:Starting at 1:00 there will be the 500m Ladies/Mens\, 3000m Ladies Relay\, 5000 Men's Relay.  For more information call the Berry Events Center at 227-2888.
X-ALT-DESC;FMTTYPE=text/html:Starting at 1:00 there will be the 500m Ladies/Mens\, 3000m Ladies Relay\, 5000 Men's Relay.  For more information call the Berry Events Center at 227-2888.
LOCATION:Berry Events Center
UID:e.1704.56045
SEQUENCE:3
DTSTAMP:20260421T035414Z
URL:http://marquette.memberzone.com/events/details/world-cup-speed-skating-10-25-2003-56045
END:VEVENT

END:VCALENDAR
