BEGIN:VCALENDAR
VERSION:2.0
PRODID:-//ChamberMaster//Event Calendar 2.0//EN
METHOD:PUBLISH
X-PUBLISHED-TTL:P3D
REFRESH-INTERVAL:P3D
CALSCALE:GREGORIAN
BEGIN:VEVENT
DTSTART:20031023T040000Z
DTEND:20031026T040000Z
X-MICROSOFT-CDO-ALLDAYEVENT:FALSE
SUMMARY:World Cup Speedskating
DESCRIPTION:Approximately 150 of the best short track speedskaters form 25-30 countries around the world are expected to participate.  Apolo Ohno is expect to be here along with many other Olympians from around the world.  For more information call the Berry Events Center at 227-2888.
X-ALT-DESC;FMTTYPE=text/html:Approximately 150 of the best short track speedskaters form 25-30 countries around the world are expected to participate.  Apolo Ohno is expect to be here along with many other Olympians from around the world.  For more information call the Berry Events Center at 227-2888.
LOCATION:Berry Events Center\, Northern Michigan University
UID:e.1704.52169
SEQUENCE:3
DTSTAMP:20260421T035406Z
URL:http://marquette.memberzone.com/events/details/world-cup-speedskating-10-23-2003-52169
END:VEVENT

END:VCALENDAR
