BEGIN:VCALENDAR
VERSION:2.0
PRODID:-//ChamberMaster//Event Calendar 2.0//EN
METHOD:PUBLISH
X-PUBLISHED-TTL:P3D
REFRESH-INTERVAL:P3D
CALSCALE:GREGORIAN
BEGIN:VEVENT
DTSTART:20030104T050000Z
DTEND:20030105T050000Z
X-MICROSOFT-CDO-ALLDAYEVENT:FALSE
SUMMARY:WSA Northwoods Challenge
DESCRIPTION:This is a cross country ski race.   For more information call Dave Grace at 906-376-2135.
X-ALT-DESC;FMTTYPE=text/html:This is a cross country ski race.   For more information call Dave Grace at 906-376-2135.
LOCATION:Republic BMX Trail
UID:e.1704.51901
SEQUENCE:3
DTSTAMP:20260421T224612Z
URL:http://marquette.memberzone.com/events/details/wsa-northwoods-challenge-01-04-2003-51901
END:VEVENT

END:VCALENDAR
