BEGIN:VCALENDAR
VERSION:2.0
PRODID:-//ChamberMaster//Event Calendar 2.0//EN
METHOD:PUBLISH
X-PUBLISHED-TTL:P3D
REFRESH-INTERVAL:P3D
CALSCALE:GREGORIAN
BEGIN:VEVENT
DTSTART:20030907T173000Z
DTEND:20030907T173000Z
X-MICROSOFT-CDO-ALLDAYEVENT:FALSE
SUMMARY:Xerball Circuit Training
DESCRIPTION:Held in the group exercise room this is a free class. For more information call the YMCA at 227-YMCA (227-9622).
X-ALT-DESC;FMTTYPE=text/html:Held in the group exercise room this is a free class. For more information call the YMCA at 227-YMCA (227-9622).
LOCATION:YMCA\, Marquette
UID:e.1704.55081
SEQUENCE:3
DTSTAMP:20260421T054820Z
URL:http://marquette.memberzone.com/events/details/xerball-circuit-training-09-07-2003-55081
END:VEVENT

END:VCALENDAR
