BEGIN:VCALENDAR
VERSION:2.0
PRODID:-//ChamberMaster//Event Calendar 2.0//EN
METHOD:PUBLISH
X-PUBLISHED-TTL:P3D
REFRESH-INTERVAL:P3D
CALSCALE:GREGORIAN
BEGIN:VEVENT
DTSTART:20030903T213000Z
DTEND:20030903T213000Z
X-MICROSOFT-CDO-ALLDAYEVENT:FALSE
SUMMARY:Xerball Total Body Training
DESCRIPTION:Held in the group exercise room this is a free class. For more information call the YMCA at 227-YMCA (227-9622).
X-ALT-DESC;FMTTYPE=text/html:Held in the group exercise room this is a free class. For more information call the YMCA at 227-YMCA (227-9622).
LOCATION:YMCA\, Marquette
UID:e.1704.55073
SEQUENCE:3
DTSTAMP:20260421T054916Z
URL:http://marquette.memberzone.com/events/details/xerball-total-body-training-09-03-2003-55073
END:VEVENT

END:VCALENDAR
