BEGIN:VCALENDAR
VERSION:2.0
PRODID:-//ChamberMaster//Event Calendar 2.0//EN
METHOD:PUBLISH
X-PUBLISHED-TTL:P3D
REFRESH-INTERVAL:P3D
CALSCALE:GREGORIAN
BEGIN:VEVENT
DTSTART:20040226T233000Z
DTEND:20040226T233000Z
X-MICROSOFT-CDO-ALLDAYEVENT:FALSE
SUMMARY:Y Adventure Guides
DESCRIPTION:This new program is designed to "foster understanding and companionship between parent and child".  All are welcome to an information night to find out more.  This is a free event.  For more information call the YMCA at 227-9622.
X-ALT-DESC;FMTTYPE=text/html:This new program is designed to "foster understanding and companionship between parent and child".  All are welcome to an information night to find out more.  This is a free event.  For more information call the YMCA at 227-9622.
LOCATION:YMCA\, Marquette
UID:e.1704.56917
SEQUENCE:3
DTSTAMP:20260420T210726Z
URL:http://marquette.memberzone.com/events/details/y-adventure-guides-02-26-2004-56917
END:VEVENT

END:VCALENDAR
