BEGIN:VCALENDAR
VERSION:2.0
PRODID:-//ChamberMaster//Event Calendar 2.0//EN
METHOD:PUBLISH
X-PUBLISHED-TTL:P3D
REFRESH-INTERVAL:P3D
CALSCALE:GREGORIAN
BEGIN:VEVENT
DTSTART:20031101T150000Z
DTEND:20031101T150000Z
X-MICROSOFT-CDO-ALLDAYEVENT:FALSE
SUMMARY:Yarnwinders Fiber Guild Handwoven Sale
DESCRIPTION:This sale takes place in the lower level of the Peter White Public Library.   For more information call the Marquette Arts and Culture Center at 228-0472.
X-ALT-DESC;FMTTYPE=text/html:This sale takes place in the lower level of the Peter White Public Library.   For more information call the Marquette Arts and Culture Center at 228-0472.
LOCATION:Marquette Arts and Culture Center Community Room
UID:e.1704.55525
SEQUENCE:3
DTSTAMP:20260421T023121Z
URL:http://marquette.memberzone.com/events/details/yarnwinders-fiber-guild-handwoven-sale-11-01-2003-55525
END:VEVENT

END:VCALENDAR
