BEGIN:VCALENDAR
VERSION:2.0
PRODID:-//ChamberMaster//Event Calendar 2.0//EN
METHOD:PUBLISH
X-PUBLISHED-TTL:P3D
REFRESH-INTERVAL:P3D
CALSCALE:GREGORIAN
BEGIN:VEVENT
DTSTART:20040616T130000Z
DTEND:20040616T130000Z
X-MICROSOFT-CDO-ALLDAYEVENT:FALSE
SUMMARY:Yellow Dog River Hike
DESCRIPTION:This will be an easy hike of about five miles round trip to the Bushy Creek and Hills Falls on the Yellow Dog River.  Participants are advised to dress appropriately for the weather and be prepared for  mosquitoes and black flies.  Bring a sack lunch\, and dogs are welcome.  For more information call the Nothern Center for Lifelong Learning at 226-1134.
X-ALT-DESC;FMTTYPE=text/html:This will be an easy hike of about five miles round trip to the Bushy Creek and Hills Falls on the Yellow Dog River.  Participants are advised to dress appropriately for the weather and be prepared for  mosquitoes and black flies.  Bring a sack lunch\, and dogs are welcome.  For more information call the Nothern Center for Lifelong Learning at 226-1134.
LOCATION:Meet at the Superior Dome Parking Lot
UID:e.1704.58433
SEQUENCE:3
DTSTAMP:20260420T123443Z
URL:http://marquette.memberzone.com/events/details/yellow-dog-river-hike-06-16-2004-58433
END:VEVENT

END:VCALENDAR
