BEGIN:VCALENDAR
VERSION:2.0
PRODID:-//ChamberMaster//Event Calendar 2.0//EN
METHOD:PUBLISH
X-PUBLISHED-TTL:P3D
REFRESH-INTERVAL:P3D
CALSCALE:GREGORIAN
BEGIN:VEVENT
DTSTART:20030125T233000Z
DTEND:20030125T233000Z
X-MICROSOFT-CDO-ALLDAYEVENT:FALSE
SUMMARY:Yellow Dog Watershed Preserve Silent Auction
DESCRIPTION:The doors open at 6:30 pm. for viewing the items that are to be auctioned off.  A slide show entitled "Autumn Falls and Spring Cascades" by Wes Freeland will be presented at 7:15pm.  For more information call the Yellow Day Watershed Preserve at (906) 345-9223 or visit www.yellowdogwatershed.org.
X-ALT-DESC;FMTTYPE=text/html:The doors open at 6:30 pm. for viewing the items that are to be auctioned off.  A slide show entitled "Autumn Falls and Spring Cascades" by Wes Freeland will be presented at 7:15pm.  For more information call the Yellow Day Watershed Preserve at (906) 345-9223 or visit www.yellowdogwatershed.org.  
LOCATION:Landmark Inn
UID:e.1704.52137
SEQUENCE:3
DTSTAMP:20260421T230505Z
URL:http://marquette.memberzone.com/events/details/yellow-dog-watershed-preserve-silent-auction-01-25-2003-52137
END:VEVENT

END:VCALENDAR
