BEGIN:VCALENDAR
VERSION:2.0
PRODID:-//ChamberMaster//Event Calendar 2.0//EN
METHOD:PUBLISH
X-PUBLISHED-TTL:P3D
REFRESH-INTERVAL:P3D
CALSCALE:GREGORIAN
BEGIN:VEVENT
DTSTART:20040507T223000Z
DTEND:20040507T223000Z
X-MICROSOFT-CDO-ALLDAYEVENT:FALSE
SUMMARY:YMCA Ball and Auction
DESCRIPTION:Social hour starts a 6:30 pm\, with dinner at 7:30 pm.  The evening continues with dancing from 9:00 pm until midnight.  There will also be an auction with fabulous items.  For reservations or for more information call the YMCA at 227-9622.
X-ALT-DESC;FMTTYPE=text/html:Social hour starts a 6:30 pm\, with dinner at 7:30 pm.  The evening continues with dancing from 9:00 pm until midnight.  There will also be an auction with fabulous items.  For reservations or for more information call the YMCA at 227-9622.
LOCATION:UpFront & Company
UID:e.1704.57681
SEQUENCE:3
DTSTAMP:20260420T160903Z
URL:http://marquette.memberzone.com/events/details/ymca-ball-and-auction-05-07-2004-57681
END:VEVENT

END:VCALENDAR
