BEGIN:VCALENDAR
VERSION:2.0
PRODID:-//ChamberMaster//Event Calendar 2.0//EN
METHOD:PUBLISH
X-PUBLISHED-TTL:P3D
REFRESH-INTERVAL:P3D
CALSCALE:GREGORIAN
BEGIN:VEVENT
DTSTART:20020512T210000Z
DTEND:20020512T210000Z
X-MICROSOFT-CDO-ALLDAYEVENT:FALSE
SUMMARY:YMCA Family Night
DESCRIPTION:If winter is beginning to feel too long\, the YMCA has a boredom buster: YMCA Family Night.  There will be games in the pool\, billiards\, foosball\, relay races and board games for the whole family to enjoy.  The cost to attend is $5 for the general public and free for Y members.  For more information please call the Y at 227-9622 or visit their website at www.ymca.org.
X-ALT-DESC;FMTTYPE=text/html:If winter is beginning to feel too long\, the YMCA has a boredom buster: YMCA Family Night.  There will be games in the pool\, billiards\, foosball\, relay races and board games for the whole family to enjoy.  The cost to attend is $5 for the general public and free for Y members.  For more information please call the Y at 227-9622 or visit their website at www.ymca.org.
LOCATION:YMCA of Marquette
UID:e.1704.48565
SEQUENCE:3
DTSTAMP:20260422T192740Z
URL:http://marquette.memberzone.com/events/details/ymca-family-night-05-12-2002-48565
END:VEVENT

END:VCALENDAR
