BEGIN:VCALENDAR
VERSION:2.0
PRODID:-//ChamberMaster//Event Calendar 2.0//EN
METHOD:PUBLISH
X-PUBLISHED-TTL:P3D
REFRESH-INTERVAL:P3D
CALSCALE:GREGORIAN
BEGIN:VEVENT
DTSTART:20041211T010000Z
DTEND:20041211T133000Z
X-MICROSOFT-CDO-ALLDAYEVENT:FALSE
SUMMARY:YMCA Holiday Lock-In
DESCRIPTION:Youth in grades 1-5 will have the chance to spend the night at the YMCA.  Bring your sleeping bag\, pillow\, and change of clothes.  Midnight snack will be provided.  Kids will swim\, make fun holiday crafts\, and learn international holiday games .  For more information contact the Marquette YMCA at 227-9622.
X-ALT-DESC;FMTTYPE=text/html:Youth in grades 1-5 will have the chance to spend the night at the YMCA.  Bring your sleeping bag\, pillow\, and change of clothes.  Midnight snack will be provided.  Kids will swim\, make fun holiday crafts\, and learn international holiday games .  For more information contact the Marquette YMCA at 227-9622.
LOCATION:YMCA of Marquette
UID:e.1704.59217
SEQUENCE:3
DTSTAMP:20260420T001632Z
URL:http://marquette.memberzone.com/events/details/ymca-holiday-lock-in-12-10-2004-59217
END:VEVENT

END:VCALENDAR
