BEGIN:VCALENDAR
VERSION:2.0
PRODID:-//ChamberMaster//Event Calendar 2.0//EN
METHOD:PUBLISH
X-PUBLISHED-TTL:P3D
REFRESH-INTERVAL:P3D
CALSCALE:GREGORIAN
BEGIN:VEVENT
DTSTART:20010611T123000Z
DTEND:20010824T213000Z
X-MICROSOFT-CDO-ALLDAYEVENT:FALSE
SUMMARY:YMCA Summer Camp
DESCRIPTION:The YMCA can help you take your kids off of your hands! There will be fun filled activities\, field trips\, swimming\, and much more!!  For more information please call 227-YMCA or 346-YMCA.
X-ALT-DESC;FMTTYPE=text/html:The YMCA can help you take your kids off of your hands! There will be fun filled activities\, field trips\, swimming\, and much more!!  For more information please call 227-YMCA or 346-YMCA.
LOCATION:Local YMCA
UID:e.1704.44893
SEQUENCE:3
DTSTAMP:20260423T154323Z
URL:http://marquette.memberzone.com/events/details/ymca-summer-camp-06-11-2001-44893
END:VEVENT

END:VCALENDAR
