BEGIN:VCALENDAR
VERSION:2.0
PRODID:-//ChamberMaster//Event Calendar 2.0//EN
METHOD:PUBLISH
X-PUBLISHED-TTL:P3D
REFRESH-INTERVAL:P3D
CALSCALE:GREGORIAN
BEGIN:VEVENT
DTSTART:20030607T113000Z
DTEND:20030607T113000Z
X-MICROSOFT-CDO-ALLDAYEVENT:FALSE
SUMMARY:YMCA Third Annual Run/Walk
DESCRIPTION:The annual YMCA Run/Walk is always a fun event for families and individuals of all athletic abilities\, and it also plays a key role in raising funds for the YMCA's Strong Kids Scholarship Program.  This year promises to deliver the same opportunity for a day of fun and community involvement along with several new features.  For more information or to register call the YMCA at 227-9622.
X-ALT-DESC;FMTTYPE=text/html:The annual YMCA Run/Walk is always a fun event for families and individuals of all athletic abilities\, and it also plays a key role in raising funds for the YMCA's Strong Kids Scholarship Program.  This year promises to deliver the same opportunity for a day of fun and community involvement along with several new features.  For more information or to register call the YMCA at 227-9622.
LOCATION:YMCA of Marquette
UID:e.1704.53265
SEQUENCE:3
DTSTAMP:20260421T140731Z
URL:http://marquette.memberzone.com/events/details/ymca-third-annual-run-walk-06-07-2003-53265
END:VEVENT

END:VCALENDAR
